BEGIN:VCALENDAR
VERSION:2.0
PRODID:-//ChamberMaster//Event Calendar 2.0//EN
METHOD:PUBLISH
X-PUBLISHED-TTL:P3D
REFRESH-INTERVAL:P3D
CALSCALE:GREGORIAN
BEGIN:VEVENT
DTSTART:20160220T020000Z
DTEND:20160221T063000Z
X-MICROSOFT-CDO-ALLDAYEVENT:FALSE
SUMMARY:LOVE\, LOVE\, LOVE at The Liberty! (presented by Broadway On The Side)
DESCRIPTION:LOVE\, LOVE\, LOVE is a musical journey of love told through songs from Broadway's best loved musicals.  Broadway On The Side is pleased to be opening the doors of the iconic Liberty Theater to the surrounding community\, bringing live theatre back to its stage and utilizing this beloved building for its original use. Featuring live singers and instrumentalists from the Greater Puget Sound area\, this show is sure to delight audiences of all ages and all walks of life. For more information visit www.broadwayontheside.org.\n\n			\n\n			All general admission tickets are festival seating. The box office will be open from 6:00 PM - 7:30 PM on Thursday\, February 18th and will be open 1 hour prior to all other performances. Seating will begin 30 minutes before the show.\n		\n	\n\n\n \n\n\n\n	\n		\n			\n			\n				\n					\n						Get Tickets\n					\n				\n			\n			http://lovelovelove.brownpapertickets.com/
X-ALT-DESC;FMTTYPE=text/html:<table border="0" cellpadding="0" cellspacing="0" style="font-family:arial\,helvetica\,sans-serif\; font-size:12px\; line-height:normal\; width:100%">\n	<tbody>\n		<tr>\n			<td>LOVE\, LOVE\, LOVE is a musical journey of love told through songs from Broadway&#39\;s best loved musicals. &nbsp\;Broadway On The Side is pleased to be opening the doors of the iconic Liberty Theater to the surrounding community\, bringing live theatre back to its stage and utilizing this beloved building for its original use. Featuring live singers and instrumentalists from the Greater Puget Sound area\, this show is sure to delight audiences of all ages and all walks of life. For more information visit www.broadwayontheside.org.<br />\n			<br />\n			All general admission tickets are festival seating. The box office will be open from 6:00 PM - 7:30 PM on Thursday\, February 18th and will be open 1 hour prior to all other performances. Seating will begin 30 minutes before the show.</td>\n		</tr>\n	</tbody>\n</table>\n\n<div>&nbsp\;</div>\n\n<div>\n<table border="0" cellpadding="0" cellspacing="0" style="width:100%">\n	<tbody>\n		<tr>\n			<td>\n			<table border="0" cellpadding="0" cellspacing="0">\n				<tbody>\n					<tr>\n						<td>Get Tickets</td>\n					</tr>\n				</tbody>\n			</table>\n			http://lovelovelove.brownpapertickets.com/</td>\n		</tr>\n	</tbody>\n</table>\n</div>\n
LOCATION:The Liberty Theater 116 W Main Ave Puyallup\, WA 98371
UID:e.101.7872
SEQUENCE:3
DTSTAMP:20260424T004604Z
URL:https://business.puyallupsumnerchamber.com/events/details/love-love-love-at-the-liberty-presented-by-broadway-on-the-side-02-19-2016-7872
END:VEVENT

END:VCALENDAR
