BEGIN:VCALENDAR
VERSION:2.0
PRODID:-//ChamberMaster//Event Calendar 2.0//EN
METHOD:PUBLISH
X-PUBLISHED-TTL:P3D
REFRESH-INTERVAL:P3D
CALSCALE:GREGORIAN
BEGIN:VEVENT
DTSTART;VALUE=DATE:20180414
DTEND;VALUE=DATE:20180416
TRANSP:TRANSPARENT
X-MICROSOFT-CDO-ALLDAYEVENT:TRUE
SUMMARY:M/A Wild West VFW Aux 91 8th Annual Spring Fling Bazaar
DESCRIPTION:Spring Fling Bazaar Hand Crafted Items Vendors Direct Dealer Vendors Lunch Kitchen is open to everyone Over 40 tables this event benefits Veterans and their Families
X-ALT-DESC;FMTTYPE=text/html:Spring Fling Bazaar Hand Crafted Items Vendors Direct Dealer Vendors Lunch Kitchen is open to everyone Over 40 tables this event benefits Veterans and their Families
LOCATION:VFW Post 91 2000 S Union Avenue Tacoma\, WA 98405
UID:e.101.8911
SEQUENCE:3
DTSTAMP:20260421T072855Z
URL:https://business.puyallupsumnerchamber.com/events/details/m-a-wild-west-vfw-aux-91-8th-annual-spring-fling-bazaar-04-14-2018-8911
END:VEVENT

END:VCALENDAR
