BEGIN:VCALENDAR
VERSION:2.0
PRODID:-//ChamberMaster//Event Calendar 2.0//EN
METHOD:PUBLISH
X-PUBLISHED-TTL:P3D
REFRESH-INTERVAL:P3D
CALSCALE:GREGORIAN
BEGIN:VEVENT
DTSTART:20151021T180000Z
DTEND:20151021T230000Z
X-MICROSOFT-CDO-ALLDAYEVENT:FALSE
SUMMARY:Making the Link 2015
DESCRIPTION:It's time to RSVP to this year's Making the Link event at Tacoma's Star Center on Wednesday\, October 21st from 11:00 am - 4:00 pm.  This is your opportunity to connect with senior services and healthcare providers in the area. \n\n			 \n\n			Making the Link 2015 is a free community resource fair for health care providers\, office staff\, social workers\, volunteers\, churches and ministries that serve the needs of seniors and disable adults. Resources around housing\, in home care\, elder law\, equipment vendors and community resources that are available in the area.\n\n			 \n\n			Transportation will be provided from local area hospitals and senior centers by Around the Sound and the schedule will be available closer to the date and will be emailed and posted on the Eventbrite page. \n\n			 \n\n			The first 50 people to RSVP through our Eventbrite event page will receive a $5 Starbucks gift card at the door. Don't wait - Click the link below to RSVP!
X-ALT-DESC;FMTTYPE=text/html:<table border="0" cellpadding="0" cellspacing="0" id="content_LETTER.BLOCK8" style="color:rgb(0\, 0\, 0)\; font-family:times new roman\; font-size:medium\; line-height:normal\; width:100%">\n	<tbody>\n		<tr>\n			<td colspan="1" rowspan="1">\n			<div><span style="color:rgb(0\, 0\, 0)\; font-size:15px">It&#39\;s time to RSVP to this year&#39\;s Making the Link event at Tacoma&#39\;s Star Center on Wednesday\, October 21st from 11:00 am - 4:00 pm. &nbsp\;This is your opportunity to connect with senior services and healthcare providers in the area.&nbsp\;</span></div>\n\n			<div>&nbsp\;</div>\n\n			<div><span style="color:rgb(0\, 0\, 0)\; font-size:15px">Making the Link 2015 is a free community resource fair for health care providers\, office staff\, social workers\, volunteers\, churches and ministries that serve the needs of seniors and disable adults. Resources around housing\, in home care\, elder law\, equipment vendors and community resources that are available in the area.</span></div>\n\n			<div>&nbsp\;</div>\n\n			<div><span style="background-color:transparent\; font-size:15px">Transportation will be provided from local area hospitals and senior centers by Around the Sound and the schedule will be available closer to the date and will be emailed and posted on the Eventbrite page.&nbsp\;</span></div>\n\n			<div>&nbsp\;</div>\n\n			<div><span style="background-color:transparent\; font-size:14.6666669845581px">The first 50 people to RSVP through our Eventbrite event page will receive a $5 Starbucks gift card at the door. Don&#39\;t wait - Click the link below to RSVP!&nbsp\;</span></div>\n			</td>\n		</tr>\n	</tbody>\n</table>\n
LOCATION:Star Center
UID:e.101.6766
SEQUENCE:3
DTSTAMP:20260424T074846Z
URL:https://business.puyallupsumnerchamber.com/events/details/making-the-link-2015-10-21-2015-6766
END:VEVENT

END:VCALENDAR
