BEGIN:VCALENDAR
VERSION:2.0
PRODID:-//ChamberMaster//Event Calendar 2.0//EN
METHOD:PUBLISH
X-PUBLISHED-TTL:P3D
REFRESH-INTERVAL:P3D
CALSCALE:GREGORIAN
BEGIN:VEVENT
DTSTART:20180618T180000Z
DTEND:20180618T230000Z
X-MICROSOFT-CDO-ALLDAYEVENT:FALSE
SUMMARY:Meeker Mansion Fiber Arts plus Yard and Garden Festival
DESCRIPTION:11am-4pm Snack Shack open for Breakfast and Lunch Treats
X-ALT-DESC;FMTTYPE=text/html:11am-4pm Snack Shack open for Breakfast and Lunch Treats
LOCATION:
UID:e.101.9076
SEQUENCE:3
DTSTAMP:20260423T085830Z
URL:https://business.puyallupsumnerchamber.com/events/details/meeker-mansion-fiber-arts-plus-yard-and-garden-festival-06-18-2018-9076
END:VEVENT

END:VCALENDAR
