BEGIN:VCALENDAR
VERSION:2.0
PRODID:-//ChamberMaster//Event Calendar 2.0//EN
METHOD:PUBLISH
X-PUBLISHED-TTL:P3D
REFRESH-INTERVAL:P3D
CALSCALE:GREGORIAN
BEGIN:VEVENT
DTSTART:20161210T230000Z
DTEND:20161211T020000Z
X-MICROSOFT-CDO-ALLDAYEVENT:FALSE
SUMMARY:Meridian Sunrise Village 2016 Festive Fun Events
DESCRIPTION:Bring the family for lots of\n\nFREE Festive Fun\n\nthis holiday season!\n\n \n\nDecember 3\, 10 & 17 3-6PM\n\n \n\n*Bring your camera for pictures with SANTA who will be on a real sleigh\n\n*Hop on for a horse drawn WAGON RIDE \n\n*Goats\, sheep\, even a camel! Pet the animals in an \n\nindoor LIVING NATIVITY\n\n?\n\nPLUS   Each week we will have additional fun!\n\n*December 3: Donner the Reindeer\n\n*December 10: The Dickens Carolers\n\n*December 17: Mrs. Claus and balloon twisting elves\n \n\nAlso around Sunrise Village all season long...\n \n\n*Enjoy great deals on SHOPPING\, DINING & MORE at Sunrise Village\n\n*Take a tag off our GIVING TREE benefitting the Pierce County Santa Cops (gifts may be dropped off in the RAM lobby)\n\n*Stop by the Puyallup South Hill Lions CHRISTMAS TREE LOT\n\nin the lower parking lot\n\n*Find all 14 of the HOOLIDAY OWLS and enter to to win on our website. www.mysunrisevillage.com
X-ALT-DESC;FMTTYPE=text/html:<div style="text-align:center"><br />\n<strong><span style="color:#0C3C60"><span style="font-family:times new roman\,serif"><span style="font-size:33.0pt">Bring the family for lots of</span></span></span></strong><br />\n<strong><span style="color:#0C3C60"><span style="font-family:times new roman\,serif"><span style="font-size:33.0pt">FREE Festive Fun</span></span></span></strong><br />\n<strong><span style="color:#0C3C60"><span style="font-family:times new roman\,serif"><span style="font-size:33.0pt">this holiday season!</span></span></span></strong><br />\n&nbsp\;<br />\n<strong><span style="color:#0C3C60"><span style="font-family:times new roman\,serif"><span style="font-size:33.0pt">December 3\, 10 &amp\; 17 3-6PM</span></span></span></strong><br />\n&nbsp\;</div>\n\n<h4 style="text-align:center"><strong><span style="color:#AB5E8C"><span style="font-family:arial\,sans-serif"><span style="font-size:18.0pt">*Bring your camera for pictures with&nbsp\;</span></span></span></strong><span style="color:#AB5E8C"><span style="font-family:arial\,sans-serif"><span style="font-size:18.0pt">SANTA</span></span></span>&nbsp\;<strong>who will be on a real sleigh</strong></h4>\n\n<h4 style="text-align:center"><strong><span style="color:#39729B"><span style="font-family:arial\,sans-serif"><span style="font-size:18.0pt">*Hop on for a horse drawn&nbsp\;</span></span></span></strong><span style="color:#39729B"><span style="font-family:arial\,sans-serif"><span style="font-size:18.0pt">WAGON RIDE</span></span></span>&nbsp\;</h4>\n\n<h4 style="text-align:center"><strong><span style="color:#AB5E8C"><span style="font-family:arial\,sans-serif"><span style="font-size:18.0pt">*Goats\, sheep\, even a camel! Pet the animals in an&nbsp\;</span></span></span></strong></h4>\n\n<h4 style="text-align:center"><strong><span style="color:#AB5E8C"><span style="font-family:arial\,sans-serif"><span style="font-size:18.0pt">indoor&nbsp\;</span></span></span></strong><span style="color:#AB5E8C"><span style="font-family:arial\,sans-serif"><span style="font-size:18.0pt">LIVING NATIVITY</span></span></span></h4>\n\n<h4 style="text-align:center"><span style="color:#AB5E8C"><span style="font-family:arial\,sans-serif"><span style="font-size:18.0pt">?</span></span></span></h4>\n\n<h4 style="text-align:center"><span style="color:#0C3C60"><span style="font-size:18.0pt">PLUS</span></span> &ndash\; Each week we will have additional fun!</h4>\n\n<h4 style="text-align:center"><strong><span style="color:#39729B"><span style="font-family:arial\,sans-serif"><span style="font-size:18.0pt">*December 3: Donner the Reindeer</span></span></span></strong></h4>\n\n<h4 style="text-align:center"><strong><span style="color:#AB5E8C"><span style="font-family:arial\,sans-serif"><span style="font-size:18.0pt">*December 10: The Dickens Carolers</span></span></span></strong></h4>\n\n<h4 style="text-align:center"><strong><span style="color:#39729B"><span style="font-family:arial\,sans-serif"><span style="font-size:18.0pt">*December 17: Mrs. Claus and balloon twisting elves</span></span></span></strong></h4>\n&nbsp\;\n\n<div style="text-align:center"><span style="font-size:22px"><span style="color:#FF0000"><strong>Also around Sunrise Village all season long...</strong></span></span></div>\n&nbsp\;\n\n<h4 style="text-align:center"><strong><span style="color:#39729B"><span style="font-family:arial\,sans-serif"><span style="font-size:18.0pt">*Enjoy great deals on&nbsp\;</span></span></span></strong><span style="color:#39729B"><span style="font-family:arial\,sans-serif"><span style="font-size:18.0pt">SHOPPING\, DINING&nbsp\;&amp\; MORE</span></span></span><strong><span style="color:#39729B"><span style="font-family:arial\,sans-serif"><span style="font-size:18.0pt">&nbsp\;at Sunrise Village</span></span></span></strong></h4>\n\n<h4 style="text-align:center"><strong><span style="color:#39729B"><span style="font-family:arial\,sans-serif"><span style="font-size:18.0pt">*Take a tag off our&nbsp\;</span></span></span></strong><span style="color:#39729B"><span style="font-family:arial\,sans-serif"><span style="font-size:18.0pt">GIVING TREE</span></span></span>&nbsp\;<strong><span style="color:#39729B"><span style="font-family:arial\,sans-serif"><span style="font-size:18.0pt">benefitting the Pierce County Santa Cops (gifts may be dropped off in the RAM lobby)</span></span></span></strong></h4>\n\n<h4 style="text-align:center"><strong><span style="color:#39729B"><span style="font-family:arial\,sans-serif"><span style="font-size:18.0pt">*Stop by the Puyallup South Hill Lions&nbsp\;</span></span></span></strong><span style="color:#39729B"><span style="font-family:arial\,sans-serif"><span style="font-size:18.0pt">CHRISTMAS TREE LOT</span></span></span></h4>\n\n<h4 style="text-align:center"><strong><span style="color:#39729B"><span style="font-family:arial\,sans-serif"><span style="font-size:18.0pt">in the lower parking lot</span></span></span></strong></h4>\n\n<h4 style="text-align:center"><strong><span style="color:#39729B"><span style="font-family:arial\,sans-serif"><span style="font-size:18.0pt">*Find all 14 of the&nbsp\;</span></span></span></strong><span style="color:#39729B"><span style="font-family:arial\,sans-serif"><span style="font-size:18.0pt">HOOLIDAY OWLS</span></span></span><strong><span style="color:#39729B"><span style="font-family:arial\,sans-serif"><span style="font-size:18.0pt">&nbsp\;and enter to to win on our website. <a href="http://www.mysunrisevillage.com">www.mysunrisevillage.com</a></span></span></span></strong></h4>\n
LOCATION:Meridian Sunrise Village 10507 156th St. E Puyallup\, WA 98374
UID:e.101.8445
SEQUENCE:3
DTSTAMP:20260423T091628Z
URL:https://business.puyallupsumnerchamber.com/events/details/meridian-sunrise-village-2016-festive-fun-events-12-10-2016-8445
END:VEVENT

END:VCALENDAR
