BEGIN:VCALENDAR
VERSION:2.0
PRODID:-//ChamberMaster//Event Calendar 2.0//EN
METHOD:PUBLISH
X-PUBLISHED-TTL:P3D
REFRESH-INTERVAL:P3D
CALSCALE:GREGORIAN
BEGIN:VEVENT
DTSTART:20180427T010000Z
DTEND:20180427T030000Z
X-MICROSOFT-CDO-ALLDAYEVENT:FALSE
SUMMARY:Molen Orthodontics GLOW Skate Night
DESCRIPTION:Who's ready for a FREE night of FUN with goodies\, games and glow sticks?!\n\nWe are excited to host another Skate Night! This time we will be hosting at the Enumclaw Expo Center in Les Schwab Hall.\n\nFeel free to bring your own skates! If you don't own a pair\, you can rent them (Molen Orthodontics will pay the rental fee)! If you do need to rent skates\, please arrive early as they are first come\, first serve and limited in quantity! Parents MUST accompany kids and sign a waiver at the door.\n\n\n	Where: Enumclaw Expo Center Les Schwab Hall - 45224 284th Avenue Southeast Enumclaw\, WA 98022\n	When: Thursday\, April 26th\, 2018\n	Time: 6:00 pm - 8:00 pm\n	Price: FREE!\n\n\nRSVP HERE - https://molenorthodontics2018.eventbrite.com\n\n\n\nNow let's get our skate on!\n\n- Your Molen Orthodontics Team
X-ALT-DESC;FMTTYPE=text/html:<p><span style="font-size:24px"><strong>Who&#39\;s ready for a FREE night of FUN with goodies\, games and glow sticks?!</strong></span></p>\n\n<p>We are excited to host another&nbsp\;<strong>Skate Night!</strong>&nbsp\;This time we will be hosting at the Enumclaw Expo Center in Les Schwab Hall.</p>\n\n<p>Feel free to bring your own skates! If you don&#39\;t own a pair\, you can rent them&nbsp\;<em>(Molen Orthodontics will pay the rental fee)</em>! If you do need to rent skates\, please arrive early as they are first come\, first serve and&nbsp\;limited in quantity!&nbsp\;<strong>Parents MUST accompany kids and sign a waiver at the door.</strong></p>\n\n<ul>\n	<li><strong>Where:</strong>&nbsp\;Enumclaw Expo Center Les Schwab Hall -&nbsp\;45224 284th Avenue Southeast Enumclaw\, WA 98022</li>\n	<li><strong>When:</strong>&nbsp\;Thursday\, April 26th\, 2018</li>\n	<li><strong>Time:</strong>&nbsp\;6:00 pm - 8:00 pm</li>\n	<li><strong>Price:</strong>&nbsp\;FREE!</li>\n</ul>\n\n<p><span style="background-color:transparent\; color:inherit\; font-size:inherit">RSVP HERE -&nbsp\;</span><a href="https://molenorthodontics2018.eventbrite.com/" style="color: rgb(1\, 54\, 83)\; text-decoration-line: none\; outline: none\; cursor: pointer\; font-family: &quot\;Benton Sans&quot\;\, &quot\;Helvetica Neue&quot\;\, Helvetica\, Roboto\, Arial\, sans-serif\; font-size: 15px\; letter-spacing: 0.5px\;" target="_blank">https://molenorthodontics2018.eventbrite.com</a><br />\n<br />\n<span style="background-color:transparent\; color:inherit\; font-size:inherit">Now let&#39\;s get our skate on!</span></p>\n\n<p>- Your Molen Orthodontics Team</p>\n
LOCATION:Enumclaw Expo Center Les Schwab Hall - 45224 284th Avenue Southeast Enumclaw\, WA 98022
UID:e.101.8915
SEQUENCE:3
DTSTAMP:20260421T071008Z
URL:https://business.puyallupsumnerchamber.com/events/details/molen-orthodontics-glow-skate-night-04-26-2018-8915
END:VEVENT

END:VCALENDAR
