BEGIN:VCALENDAR
VERSION:2.0
PRODID:-//ChamberMaster//Event Calendar 2.0//EN
METHOD:PUBLISH
X-PUBLISHED-TTL:P3D
REFRESH-INTERVAL:P3D
CALSCALE:GREGORIAN
BEGIN:VEVENT
DTSTART:20150710T180000Z
DTEND:20150710T200000Z
X-MICROSOFT-CDO-ALLDAYEVENT:FALSE
SUMMARY:Monthly Luncheon
DESCRIPTION:MINIMUM WAGE\n\nLearn the facts and how it may impact your business
X-ALT-DESC;FMTTYPE=text/html:<div style="text-align: center\;">&nbsp\; &nbsp\; <span style="color:#0000FF\;"><strong><span style="font-size:22px\;">MINIMUM WAGE</span></strong></span><br />\n<span style="font-size:18px\;">Learn the facts and how it may impact your business</span></div>\n
LOCATION:620 S Hill Park Dr Puyallup\, WA
UID:e.101.6726
SEQUENCE:3
DTSTAMP:20260424T104503Z
URL:https://business.puyallupsumnerchamber.com/events/details/monthly-luncheon-07-10-2015-6726
END:VEVENT

END:VCALENDAR
