BEGIN:VCALENDAR
VERSION:2.0
PRODID:-//ChamberMaster//Event Calendar 2.0//EN
METHOD:PUBLISH
X-PUBLISHED-TTL:P3D
REFRESH-INTERVAL:P3D
CALSCALE:GREGORIAN
BEGIN:VEVENT
DTSTART:20180811T030000Z
DTEND:20180811T050000Z
X-MICROSOFT-CDO-ALLDAYEVENT:FALSE
SUMMARY:Movies Off Main
DESCRIPTION:Movies Off Main in Sumner 2018\n\n              Every Friday night in August at Heritage Park\n\n                   Hosted by the Sumner Arts Commission
X-ALT-DESC;FMTTYPE=text/html:<p style="box-sizing: border-box\; -webkit-tap-highlight-color: transparent\; margin: 0px 0px 15px\; font-size: 18px\; line-height: 1.618\; color: rgb(60\, 72\, 88)\; font-family: Arial\, Helvetica\, sans-serif\; background-color: rgb(255\, 255\, 255)\;">&nbsp\; &nbsp\; &nbsp\; &nbsp\; &nbsp\; &nbsp\; &nbsp\; &nbsp\; &nbsp\; &nbsp\; &nbsp\; &nbsp\;Movies Off Main in Sumner 2018<br />\n&nbsp\; &nbsp\; &nbsp\; &nbsp\; &nbsp\; &nbsp\; &nbsp\; Every Friday night in August at Heritage Park<br />\n&nbsp\; &nbsp\; &nbsp\; &nbsp\; &nbsp\; &nbsp\; &nbsp\; &nbsp\; &nbsp\; &nbsp\;Hosted by the Sumner Arts Commission</p>\n
LOCATION:
UID:e.101.9078
SEQUENCE:3
DTSTAMP:20260421T133639Z
URL:https://business.puyallupsumnerchamber.com/events/details/movies-off-main-07-13-2018-9078
END:VEVENT

END:VCALENDAR
