BEGIN:VCALENDAR
VERSION:2.0
PRODID:-//ChamberMaster//Event Calendar 2.0//EN
METHOD:PUBLISH
X-PUBLISHED-TTL:P3D
REFRESH-INTERVAL:P3D
CALSCALE:GREGORIAN
BEGIN:VEVENT
DTSTART:20180825T030000Z
DTEND:20180825T050000Z
X-MICROSOFT-CDO-ALLDAYEVENT:FALSE
SUMMARY:Movies Off Main
DESCRIPTION:Movies off Main! Bring your chair or blanket and enjoy an outdoor every Friday in August! Movies begin at dusk\, aprrox 8:00pm everny Friday in downtown Sumner at Heritage Park. Hosted by the City of Sumner Arts Commission.
X-ALT-DESC;FMTTYPE=text/html:Movies off Main! Bring your chair or blanket and enjoy an outdoor every Friday in August! Movies begin at dusk\, aprrox 8:00pm everny Friday in&nbsp\;downtown Sumner at Heritage Park. Hosted by the City of Sumner Arts Commission.
LOCATION:Heritage Park Downtown Sumner
UID:e.101.8935
SEQUENCE:3
DTSTAMP:20260421T133527Z
URL:https://business.puyallupsumnerchamber.com/events/details/movies-off-main-08-24-2018-8935
END:VEVENT

END:VCALENDAR
