BEGIN:VCALENDAR
VERSION:2.0
PRODID:-//ChamberMaster//Event Calendar 2.0//EN
METHOD:PUBLISH
X-PUBLISHED-TTL:P3D
REFRESH-INTERVAL:P3D
CALSCALE:GREGORIAN
BEGIN:VEVENT
DTSTART:20180714T013000Z
DTEND:20180714T030000Z
X-MICROSOFT-CDO-ALLDAYEVENT:FALSE
SUMMARY:Music off Main
DESCRIPTION:Mark your calendars for the Music off Main Concert series every Friday in July. You wont want to miss a note of the great musical season ahead! 6:30 pm at Heritage Park in Downtwon Sumner. Sponsed by the City of Sumner's Arts Commission.
X-ALT-DESC;FMTTYPE=text/html:Mark your calendars for the&nbsp\;Music off Main Concert series every Friday in July. You wont want to miss a note of&nbsp\;the great musical season ahead! 6:30 pm at Heritage Park in Downtwon Sumner. Sponsed by the City of Sumner&#39\;s Arts Commission.
LOCATION:Heritage Park Downtown Sumner
UID:e.101.8929
SEQUENCE:3
DTSTAMP:20260421T132504Z
URL:https://business.puyallupsumnerchamber.com/events/details/music-off-main-07-13-2018-8929
END:VEVENT

END:VCALENDAR
