BEGIN:VCALENDAR
VERSION:2.0
PRODID:-//ChamberMaster//Event Calendar 2.0//EN
METHOD:PUBLISH
X-PUBLISHED-TTL:P3D
REFRESH-INTERVAL:P3D
CALSCALE:GREGORIAN
BEGIN:VEVENT
DTSTART:20180728T013000Z
DTEND:20180728T030000Z
X-MICROSOFT-CDO-ALLDAYEVENT:FALSE
SUMMARY:Music off Main
DESCRIPTION:Mark your calendars for the Music off Main Concert series every Friday in July.\n\n                   Come enjoy nights  of the great musical season ahead!\n\n                           6:30 pm at Heritage Park in Downtwon Sumner.\n\n                      Sponsed by the City of Sumner's Arts Commission.
X-ALT-DESC;FMTTYPE=text/html:Mark your calendars for the&nbsp\;Music off Main Concert series every Friday in July.<br />\n&nbsp\; &nbsp\; &nbsp\; &nbsp\; &nbsp\; &nbsp\; &nbsp\; &nbsp\; &nbsp\; &nbsp\;Come enjoy nights&nbsp\; of&nbsp\;the great musical season ahead!<br />\n&nbsp\; &nbsp\; &nbsp\; &nbsp\; &nbsp\; &nbsp\; &nbsp\; &nbsp\; &nbsp\; &nbsp\; &nbsp\; &nbsp\; &nbsp\; &nbsp\;6:30 pm at Heritage Park in Downtwon Sumner.<br />\n&nbsp\; &nbsp\; &nbsp\; &nbsp\; &nbsp\; &nbsp\; &nbsp\; &nbsp\; &nbsp\; &nbsp\; &nbsp\; Sponsed by the City of Sumner&#39\;s Arts Commission.
LOCATION:Heritage Park Downtown Sumner
UID:e.101.8931
SEQUENCE:3
DTSTAMP:20260421T132617Z
URL:https://business.puyallupsumnerchamber.com/events/details/music-off-main-07-27-2018-8931
END:VEVENT

END:VCALENDAR
