BEGIN:VCALENDAR
VERSION:2.0
PRODID:-//ChamberMaster//Event Calendar 2.0//EN
METHOD:PUBLISH
X-PUBLISHED-TTL:P3D
REFRESH-INTERVAL:P3D
CALSCALE:GREGORIAN
BEGIN:VEVENT
DTSTART:20160507T020000Z
DTEND:20160507T040000Z
X-MICROSOFT-CDO-ALLDAYEVENT:FALSE
SUMMARY:MY FAVORITE THINGS at The Liberty
DESCRIPTION:ONE WEEKEND ONLY at THE LIBERTY!!\n\nA wonderfully delightful show featuring songs and musical scenes from everyone's favorite Broadway shows including: Anything Goes\, Newsies\, Gypsy\, and Sound Of Music. A perfect activity to help celebrate Mother's Day - or just if you want a fun evening of entertainment. You won't want to miss this. Get your tickets today! http://myfavoritethings.brownpapertickets.com/\n\n\n\n~ performed by live singers and instrumentalists ~\n\n\n\nhttps://www.facebook.com/BroadwayOnTheSide/
X-ALT-DESC;FMTTYPE=text/html:ONE WEEKEND ONLY at THE LIBERTY!!<br />\nA wonderfully delightful show featuring songs and musical scenes from everyone&#39\;s favorite Broadway shows including: Anything Goes\, Newsies\, Gypsy\, and Sound Of Music. A perfect activity to help celebrate Mother&#39\;s Day - or just if you want a fun evening of entertainment. You won&#39\;t want to miss this. Get your tickets today! <a href="http://myfavoritethings.brownpapertickets.com/">http://myfavoritethings.brownpapertickets.com/</a><br />\n<br />\n~ performed by live singers and instrumentalists ~<br />\n<br />\n<a href="https://www.facebook.com/BroadwayOnTheSide/">https://www.facebook.com/BroadwayOnTheSide/</a>
LOCATION:The Liberty Theater\, 116 W Main Ave\, Puyallup\, WA
UID:e.101.8249
SEQUENCE:3
DTSTAMP:20260423T202046Z
URL:https://business.puyallupsumnerchamber.com/events/details/my-favorite-things-at-the-liberty-05-06-2016-8249
END:VEVENT

END:VCALENDAR
