BEGIN:VCALENDAR
VERSION:2.0
PRODID:-//ChamberMaster//Event Calendar 2.0//EN
METHOD:PUBLISH
X-PUBLISHED-TTL:P3D
REFRESH-INTERVAL:P3D
CALSCALE:GREGORIAN
BEGIN:VEVENT
DTSTART:20140308T180000Z
DTEND:20140309T000000Z
X-MICROSOFT-CDO-ALLDAYEVENT:FALSE
SUMMARY:My Wedding My Way Show
DESCRIPTION:My Wedding My Way Wedding Show\n\nSaturday\, March 8th\, 2014\n\n10:00am-4:00pm\n\nAdmission and Parking are Free!\n\nGreen River Community College   Lindbloom Center\n\n12401 SE 320th St\n\nAuburn\, WA 98092\n\nhttps://www.facebook.com/WedMyWay
X-ALT-DESC;FMTTYPE=text/html:My Wedding My Way Wedding Show<br />\nSaturday\, March 8<sup>th</sup>\, 2014<br />\n10:00am-4:00pm<br />\nAdmission and Parking are Free!<br />\nGreen River Community College &ndash\; Lindbloom Center<br />\n12401 SE 320<sup>th</sup> St<br />\nAuburn\, WA 98092<br />\n<a href="https://www.facebook.com/WedMyWay">https://www.facebook.com/WedMyWay</a>
LOCATION:
UID:e.101.6465
SEQUENCE:3
DTSTAMP:20260425T124514Z
URL:https://business.puyallupsumnerchamber.com/events/details/my-wedding-my-way-show-03-08-2014-6465
END:VEVENT

END:VCALENDAR
