BEGIN:VCALENDAR
VERSION:2.0
PRODID:-//ChamberMaster//Event Calendar 2.0//EN
METHOD:PUBLISH
X-PUBLISHED-TTL:P3D
REFRESH-INTERVAL:P3D
CALSCALE:GREGORIAN
BEGIN:VEVENT
DTSTART:20180225T220000Z
DTEND:20180226T000000Z
X-MICROSOFT-CDO-ALLDAYEVENT:FALSE
SUMMARY:Northwest Sinfonietta Presents 'Four Seasons
DESCRIPTION:The talents of Sinfonietta's Co-concertmasters\, Brittany Boulding and Denise Dillenbeck\, are on full display in this program inspired by the changing seasons. Vivaldi's immortal collection of concerti are known the world over for their evocative sounds and virtuoso demands on the soloist. Centuries later\, Astor Piazzolla was inspired to write his own version\, infused with the rhythm and soul of the Argentinean tango. All ticket buyers will be added to a will-call list at the door- physical tickets will not be issued for this concert. Warm up your winter with an afternoon featuring these two remarkable works\, side by side!
X-ALT-DESC;FMTTYPE=text/html:The talents of Sinfonietta&#39\;s Co-concertmasters\, Brittany Boulding and Denise Dillenbeck\, are on full display in this program inspired by the changing seasons. Vivaldi&#39\;s immortal collection of concerti are known the world over for their evocative sounds and virtuoso demands on the soloist. Centuries later\, Astor Piazzolla was inspired to write his own version\, infused with the rhythm and soul of the Argentinean tango. All ticket buyers will be added to a will-call list at the door- physical tickets will not be issued for this concert. Warm up your winter with an afternoon featuring these two remarkable works\, side by side!
LOCATION:Pioneer Park Pavillion 330 S Meridian Puyallup
UID:e.101.8839
SEQUENCE:3
DTSTAMP:20260421T052129Z
URL:https://business.puyallupsumnerchamber.com/events/details/northwest-sinfonietta-presents-four-seasons-02-25-2018-8839
END:VEVENT

END:VCALENDAR
