BEGIN:VCALENDAR
VERSION:2.0
PRODID:-//ChamberMaster//Event Calendar 2.0//EN
METHOD:PUBLISH
X-PUBLISHED-TTL:P3D
REFRESH-INTERVAL:P3D
CALSCALE:GREGORIAN
BEGIN:VEVENT
DTSTART:20171104T160000Z
DTEND:20171104T230000Z
X-MICROSOFT-CDO-ALLDAYEVENT:FALSE
SUMMARY:Northwood PTA Holiday Boutique
DESCRIPTION:The boutique is an inspiring transformation of our little school\, into a winter wonderland shopping extravaganza! The boutique is a PTA fundraiser that has been going strong for 42 years. In addition to our wonderful crafters\, there are marvelous live musical performances to get you into a festive mood\, and a delicious snack bar to keep your energy up while completing your early holiday shopping.
X-ALT-DESC;FMTTYPE=text/html:The boutique is an inspiring transformation of our little school\, into a winter wonderland shopping extravaganza! The boutique is a PTA fundraiser that has been going strong for 42 years. In addition to our wonderful crafters\, there are marvelous live musical performances to get you into a festive mood\, and a delicious snack bar to keep your energy up while completing your early holiday shopping.
LOCATION:Edgemont Junior High 2300 110th Ave E Edgewood\, Washington\, WA 98372
UID:e.101.8761
SEQUENCE:3
DTSTAMP:20260421T002259Z
URL:https://business.puyallupsumnerchamber.com/events/details/northwood-pta-holiday-boutique-11-04-2017-8761
END:VEVENT

END:VCALENDAR
