BEGIN:VCALENDAR
VERSION:2.0
PRODID:-//ChamberMaster//Event Calendar 2.0//EN
METHOD:PUBLISH
X-PUBLISHED-TTL:P3D
REFRESH-INTERVAL:P3D
CALSCALE:GREGORIAN
BEGIN:VEVENT
DTSTART:20150627T010000Z
DTEND:20150627T170000Z
X-MICROSOFT-CDO-ALLDAYEVENT:FALSE
SUMMARY:One Night In A Car
DESCRIPTION:Unfortunately this event has be POSTPONED please contact \n\nHelping Hand House for more information. \n\nwww.helpinghandhouse.org
X-ALT-DESC;FMTTYPE=text/html:<font color="#141823" face="Helvetica\, Arial\, lucida grande\, tahoma\, verdana\, arial\, sans-serif"><span style="font-size: 14px\; letter-spacing: 0.5px\; line-height: 17px\;"><b>Unfortunately this event has be POSTPONED please contact&nbsp\;<br />\nHelping Hand House for more information.&nbsp\;</b></span></font><br />\nwww.helpinghandhouse.org
LOCATION:Fair Employee Parking Lot (Bronze Lot) 413 9th Avenue Southeast Puyallup\, WA 98372
UID:e.101.6570
SEQUENCE:3
DTSTAMP:20260424T121208Z
URL:https://business.puyallupsumnerchamber.com/events/details/one-night-in-a-car-06-26-2015-6570
END:VEVENT

END:VCALENDAR
