BEGIN:VCALENDAR
VERSION:2.0
PRODID:-//ChamberMaster//Event Calendar 2.0//EN
METHOD:PUBLISH
X-PUBLISHED-TTL:P3D
REFRESH-INTERVAL:P3D
CALSCALE:GREGORIAN
BEGIN:VEVENT
DTSTART:20170427T010000Z
DTEND:20170427T020000Z
X-MICROSOFT-CDO-ALLDAYEVENT:FALSE
SUMMARY:Open Health Forum
DESCRIPTION:Do you have questions about health and wellness\, but don't know who to ask?\n\nAre you confused about what is good or bad health advice?\n\nWould you like some easy-to-implement ideas in your life to help you and your family be healthier and happier?\n\n\n\nThen this Open Health Forum is for YOU! Come ask the questions you have. Come pick a Chiropractor's brain about anything health and wellness related. This is a FREE event open to the public. Call (253) 750-4533 to reserve your spot today.
X-ALT-DESC;FMTTYPE=text/html:Do you have questions about health and wellness\, but don&#39\;t know who to ask?<br />\nAre you confused about what is good or bad health advice?<br />\nWould you like some easy-to-implement ideas in your life to help you and your family be healthier and happier?<br />\n<br />\nThen this Open Health Forum is for YOU! Come ask the questions you have. Come pick a Chiropractor&#39\;s brain about anything health and wellness related. This is a FREE event open to the public. Call (253) 750-4533 to reserve your spot today.
LOCATION:410 Chiropractic 16202 64th St E Suite 115 Sumner\, WA 98390 (Located in Sumner in the same parking lot as Molen Orthodontics\, Schafers Bar and Grill\, ValPak\, and Molen Oral Surgery)
UID:e.101.8545
SEQUENCE:3
DTSTAMP:20260420T131430Z
URL:https://business.puyallupsumnerchamber.com/events/details/open-health-forum-04-26-2017-8545
END:VEVENT

END:VCALENDAR
