BEGIN:VCALENDAR
VERSION:2.0
PRODID:-//ChamberMaster//Event Calendar 2.0//EN
METHOD:PUBLISH
X-PUBLISHED-TTL:P3D
REFRESH-INTERVAL:P3D
CALSCALE:GREGORIAN
BEGIN:VEVENT
DTSTART:20180815T010000Z
DTEND:20180815T030000Z
X-MICROSOFT-CDO-ALLDAYEVENT:FALSE
SUMMARY:OPEN House - Proposed new Puyallup Justice Center
DESCRIPTION:People from City of Puyallup and the architecture firm\, McKenzie\, will be on hand to answer your questions.
X-ALT-DESC;FMTTYPE=text/html:People from City of Puyallup and the architecture firm\, McKenzie\, will be on hand to answer your questions.<br />\n&nbsp\;
LOCATION:Puyallup City Council Chambers 5th Floor 333 S. Meridian Puyallup\, WA 98371
UID:e.101.9160
SEQUENCE:3
DTSTAMP:20260421T133956Z
URL:https://business.puyallupsumnerchamber.com/events/details/open-house-proposed-new-puyallup-justice-center-9160
END:VEVENT

END:VCALENDAR
