BEGIN:VCALENDAR
VERSION:2.0
PRODID:-//ChamberMaster//Event Calendar 2.0//EN
METHOD:PUBLISH
X-PUBLISHED-TTL:P3D
REFRESH-INTERVAL:P3D
CALSCALE:GREGORIAN
BEGIN:VEVENT
DTSTART:20171118T033000Z
DTEND:20171118T050000Z
X-MICROSOFT-CDO-ALLDAYEVENT:FALSE
SUMMARY:Open Mic Night
DESCRIPTION:Caffe D' arte at Tehaleh is hosting its Open Mic Night. Come out with friends and family to enjoy some local talent share their art to an audience. You can enjoy the full menu from the cafe from handcrafted drinks\, paninis and local bakery goods.\n\nYou can join in with open mic night if you have a talent you would like to share. Just sign up in The Post\, call the cafe or email them. \n\nWe look forward to having you join us.
X-ALT-DESC;FMTTYPE=text/html:Caffe D&#39\; arte at Tehaleh is hosting its Open Mic Night. Come out with friends and family to enjoy some local talent share their art to an audience. You can enjoy the full menu from the cafe from handcrafted drinks\, paninis and local bakery goods.<br />\nYou can join in with open mic night if you have a talent you would like to share. Just sign up in The Post\, call the cafe or email them.&nbsp\;<br />\nWe look forward to having you join us.
LOCATION:Caffe D' arte at Tehaleh
UID:e.101.8797
SEQUENCE:3
DTSTAMP:20260421T001729Z
URL:https://business.puyallupsumnerchamber.com/events/details/open-mic-night-11-17-2017-8797
END:VEVENT

END:VCALENDAR
