BEGIN:VCALENDAR
VERSION:2.0
PRODID:-//ChamberMaster//Event Calendar 2.0//EN
METHOD:PUBLISH
X-PUBLISHED-TTL:P3D
REFRESH-INTERVAL:P3D
CALSCALE:GREGORIAN
BEGIN:VEVENT
DTSTART:20180704T210000Z
DTEND:20180705T000000Z
X-MICROSOFT-CDO-ALLDAYEVENT:FALSE
SUMMARY:P-Town Showdown Car Show at Puyallup's Red White and KaBoom: Classics and Hot Rods
DESCRIPTION:Poker Run 2:00pm - Check in at Meeker Mansion\n\n\n\nCar Show 4:00pm   Check in at Pioneer Park Pavilion \nVehicles Displayed at Puyallup Library Parking Lot
X-ALT-DESC;FMTTYPE=text/html:<div style="color:#1F497D\;margin-left:0in\;"><span style="font-size:14px\;"><span style="font-family:arial\;">Poker Run 2:00pm - Check in at Meeker Mansion<br />\n<br />\nCar Show 4:00pm &ndash\; Check in at Pioneer Park Pavilion </span></span></div>\n<span style="font-size:14px\;"><span style="font-family:arial\;"><span style="color:#1F497D\;">Vehicles Displayed at Puyallup Library Parking Lot&nbsp\;</span></span></span>\n\n<div style="color:#1F497D\;margin-bottom:12.0pt\;margin-left:0in\;">&nbsp\;</div>\n
LOCATION:Poker Run - Meeker Mansion 312 Spring St\, Puyallup WA 98372 Car Show - Puyallup Public Library 324 S Meridian\, Puyallup WA 98371
UID:e.101.8960
SEQUENCE:3
DTSTAMP:20260421T134152Z
URL:https://business.puyallupsumnerchamber.com/events/details/p-town-showdown-car-show-at-puyallup-s-red-white-and-kaboom-classics-and-hot-rods-8960
END:VEVENT

END:VCALENDAR
