BEGIN:VCALENDAR
VERSION:2.0
PRODID:-//ChamberMaster//Event Calendar 2.0//EN
METHOD:PUBLISH
X-PUBLISHED-TTL:P3D
REFRESH-INTERVAL:P3D
CALSCALE:GREGORIAN
BEGIN:VEVENT
DTSTART;VALUE=DATE:20160501
DTEND;VALUE=DATE:20160516
TRANSP:TRANSPARENT
X-MICROSOFT-CDO-ALLDAYEVENT:TRUE
SUMMARY:Paint Sunrise Village Purple
DESCRIPTION:Purchase a Passport for $25 The passport has a list of special deals all around Sunrise Village (Discounts at participating restaurants\, 30% off at Party City\, 10% off Aveda at Salon Escape and MORE!) Use the deals as often as you want to from May 1 - 15! Click here for a sneak peek of the passport Click HERE to purchase your passport and to learn how your donation supports the American Cancer Society Select the "Donate Now" button\, donate $25 (OR MORE!) Then the passport will be emailed to you as a PDF THANK YOU FOR YOUR SUPPORT! Join us on May 4th | 5 - 9pm at the Menchie's takeover night Personalize your froyo... include some purple and share your pictures on Facebook with #SVMenchies and you'll be entered to win Menchie's gift cards! Menchie's will donate a portion of sales from the evening to the American Cancer Society Join us on May 11th | 5 - 9pm at the RAM takeover night Enjoy adult purple drinks\, door prizes and delicious food! The RAM will donate a portion of sales from the evening to the American Cancer Society
X-ALT-DESC;FMTTYPE=text/html:Purchase a Passport for $25 The passport has a list of special deals all around Sunrise Village (Discounts at participating restaurants\, 30% off at Party City\, 10% off Aveda at Salon Escape and MORE!) Use the deals as often as you want to from May 1 - 15! Click here for a sneak peek of the passport Click HERE to purchase your passport and to learn how your donation supports the American Cancer Society Select the &quot\;Donate Now&quot\; button\, donate $25 (OR MORE!) Then the passport will be emailed to you as a PDF THANK YOU FOR YOUR SUPPORT! Join us on May 4th | 5 - 9pm at the Menchie&#39\;s takeover night Personalize your froyo... include some purple and share your pictures on Facebook with #SVMenchies and you&#39\;ll be entered to win Menchie&#39\;s gift cards! Menchie&#39\;s will donate a portion of sales from the evening to the American Cancer Society Join us on May 11th | 5 - 9pm at the RAM takeover night Enjoy adult purple drinks\, door prizes and delicious food! The RAM will donate a portion of sales from the evening to the American Cancer Society
LOCATION:Meridian Sunrise Village - 10507 156th St. E Puyallup\, WA 98374
UID:e.101.8021
SEQUENCE:3
DTSTAMP:20260423T202258Z
URL:https://business.puyallupsumnerchamber.com/events/details/paint-sunrise-village-purple-05-01-2016-8021
END:VEVENT

END:VCALENDAR
