BEGIN:VCALENDAR
VERSION:2.0
PRODID:-//ChamberMaster//Event Calendar 2.0//EN
METHOD:PUBLISH
X-PUBLISHED-TTL:P3D
REFRESH-INTERVAL:P3D
CALSCALE:GREGORIAN
BEGIN:VEVENT
DTSTART:20160520T160000Z
DTEND:20160520T200000Z
X-MICROSOFT-CDO-ALLDAYEVENT:FALSE
SUMMARY:Pierce College STEM Expo
DESCRIPTION:Pierce College Puyallup STEM EXPO 2016 on\n\nMay 20\, 2016 from 9am   1 pm in the\n\nCollege Center Building on the Puyallup campus.\n\n \n\nThe EXPO's purpose is to provide our students and the community with information about majors and careers in the STEM fields. \n\n \n\nThe STEM EXPO includes:\n\n\n	Faculty and student panels\n	Student poster presentations of STEM projects\n	Vendors such as Pierce Conservation District\n	Tacoma MESA\n	Tacoma Power\n	 Representation from four-year institutions such as UWT   biomedical engineering and geographic information systems\, and WSU Bremerton   engineering.\n\n \n\nFaculty panel participants' will share a brief introduction about their work experiences and career path\, and respond to students' questions.  \n\n \n\nSeveral university panelists will also briefly share information about their programs\, a specific student success story from their respective programs\, and career opportunities in the field.  \n\n      \n\nThe student panel is comprised of STEM students among others from St. Martin's University and University of Washington-Tacoma. They will describe coursework and extracurricular activities that prepared them for their program\; projects that they completed that they felt especially proud of\, and their applicability to what they would like to do in their career\, and any internships they have done or may be considering for further preparation in their career. \n\n \n\nPierce College is excited to be recruiting and educating the next generation of problem solvers and leaders in the science\, technology\, engineering\, mathematics\, and health fields.\n\n \n\nPlease join us and spread the word!
X-ALT-DESC;FMTTYPE=text/html:<span style="font-family:calibri"><strong><span style="font-size:14pt">Pierce College Puyallup</span>&nbsp\;</strong><strong><span style="font-size:14pt">STEM EXPO 2016</span><span style="font-size:medium"> on</span></strong><br />\n<strong><span style="font-size:14pt">May 20\, 2016 from 9am &ndash\; 1 pm</span><span style="font-size:medium"> in the<br />\nCollege Center Building on the Puyallup campus.</span></strong></span><br />\n&nbsp\;<br />\n<span style="font-size:medium"><span style="font-family:calibri">The EXPO&rsquo\;s purpose is to provide our students and the community with information about majors and careers in the STEM fields. </span></span><br />\n&nbsp\;<br />\n<span style="font-size:medium"><span style="font-family:calibri">The STEM EXPO includes:</span></span>\n\n<ul>\n	<li>Faculty and student panels</li>\n	<li>Student poster presentations of STEM projects</li>\n	<li>Vendors such as Pierce Conservation District</li>\n	<li>Tacoma MESA</li>\n	<li>Tacoma Power</li>\n	<li>&nbsp\;Representation from four-year institutions such as UWT &ndash\; biomedical engineering and geographic information systems\, and WSU Bremerton &ndash\; engineering.</li>\n</ul>\n&nbsp\;<br />\n<span style="font-size:medium"><span style="font-family:calibri">Faculty panel participants&rsquo\; will share a brief introduction about their work experiences and career path\, and respond to students&rsquo\; questions.&nbsp\; </span></span><br />\n&nbsp\;<br />\n<span style="font-size:medium"><span style="font-family:calibri">Several university panelists will also briefly share information about their programs\, a specific student success story from their respective programs\, and career opportunities in the field.&nbsp\; </span></span><br />\n&nbsp\;&nbsp\;&nbsp\;&nbsp\;&nbsp\;&nbsp\;<br />\n<span style="font-size:medium"><span style="font-family:calibri">The student panel is comprised of STEM students among others from St. Martin&rsquo\;s University and University of Washington-Tacoma. They will describe coursework and extracurricular activities that prepared them for their program\; projects that they completed that they felt especially proud of\, and their applicability to what they would like to do in their career\, and any internships they have done or may be considering for further preparation in their career. </span></span><br />\n&nbsp\;<br />\n<strong><span style="font-size:medium"><span style="font-family:calibri">Pierce College is excited to be recruiting and educating the next generation of problem solvers and leaders in the science\, technology\, engineering\, mathematics\, and health fields.</span></span></strong><br />\n&nbsp\;<br />\n<strong><span style="font-size:medium"><span style="font-family:calibri">Please join us and spread the word! </span></span></strong><br />\n&nbsp\;<br />\n<br />\n<br />\n&nbsp\;
LOCATION:Pierce College Puyallup\, in the College Center Building\, please follow the event signs as you enter campus
UID:e.101.8254
SEQUENCE:3
DTSTAMP:20260423T215205Z
URL:https://business.puyallupsumnerchamber.com/events/details/pierce-college-stem-expo-05-20-2016-8254
END:VEVENT

END:VCALENDAR
