BEGIN:VCALENDAR
VERSION:2.0
PRODID:-//ChamberMaster//Event Calendar 2.0//EN
METHOD:PUBLISH
X-PUBLISHED-TTL:P3D
REFRESH-INTERVAL:P3D
CALSCALE:GREGORIAN
BEGIN:VEVENT
DTSTART:20151104T013000Z
DTEND:20151104T030000Z
X-MICROSOFT-CDO-ALLDAYEVENT:FALSE
SUMMARY:Planning and Paying for Long Term Care
DESCRIPTION:Do you know your options for retirement and the average cost of long term care? \n\nIn this free\, educational seminar offered by Registered Nurse and Geriatric Care Manager\, Lisa Doyle\, you will receive valuable information that will help you navigate the choices available for retirement and long term care. \n\nYou will learn:\n\n\n	The levels of care are and the average cost for care\n	Methods of choosing the correct level of care\n	How to have the tough coversation about long term care \n\n\nYou will also find out more about alternate ways to pay for care and resources available. \n\nThis event is free\, however space is limited so register today and secure your seat!
X-ALT-DESC;FMTTYPE=text/html:<p><span style="font-family:book antiqua\,palatino\; font-size:medium">Do you know your options for retirement and the average cost of long term care?&nbsp\;</span></p>\n\n<p><span style="font-family:book antiqua\,palatino\; font-size:medium">In this free\, educational seminar offered by&nbsp\;Registered Nurse and Geriatric Care Manager\, Lisa Doyle\, you will receive&nbsp\;valuable information that will help you navigate the choices available for retirement and long term care.&nbsp\;</span></p>\n\n<p><span style="font-family:book antiqua\,palatino\; font-size:medium">You will learn:</span></p>\n\n<ul>\n	<li><span style="font-family:book antiqua\,palatino\; font-size:medium">The levels of care are and the average cost for care</span></li>\n	<li><span style="font-family:book antiqua\,palatino\; font-size:medium">Methods of choosing the correct level of care</span></li>\n	<li><span style="font-family:book antiqua\,palatino\; font-size:medium">How to have the tough coversation about long term care&nbsp\;</span></li>\n</ul>\n\n<p><span style="font-family:book antiqua\,palatino\; font-size:medium">You will also find out more about alternate ways to pay for care and resources available.&nbsp\;</span></p>\n\n<p><span style="font-family:book antiqua\,palatino\; font-size:medium">This event is free\, however space is limited so register today and secure your seat!</span></p>\n
LOCATION:Life Care Center of Puyallup
UID:e.101.6795
SEQUENCE:3
DTSTAMP:20260424T063014Z
URL:https://business.puyallupsumnerchamber.com/events/details/planning-and-paying-for-long-term-care-11-03-2015-6795
END:VEVENT

END:VCALENDAR
