BEGIN:VCALENDAR
VERSION:2.0
PRODID:-//ChamberMaster//Event Calendar 2.0//EN
METHOD:PUBLISH
X-PUBLISHED-TTL:P3D
REFRESH-INTERVAL:P3D
CALSCALE:GREGORIAN
BEGIN:VEVENT
DTSTART:20180712T230000Z
DTEND:20180713T020000Z
X-MICROSOFT-CDO-ALLDAYEVENT:FALSE
SUMMARY:Procura Mortgage Comany Office Meet and Greet
DESCRIPTION:Summer BBQ with complimentary food\, beer\, and wine
X-ALT-DESC;FMTTYPE=text/html:Summer BBQ with complimentary food\, beer\, and wine
LOCATION:Procura Mortgage Company 10023 128th St E\, Suite #1 Puyallup\, WA 98373
UID:e.101.9133
SEQUENCE:3
DTSTAMP:20260421T133447Z
URL:https://business.puyallupsumnerchamber.com/events/details/procura-mortgage-comany-office-meet-and-greet-9133
END:VEVENT

END:VCALENDAR
