BEGIN:VCALENDAR
VERSION:2.0
PRODID:-//ChamberMaster//Event Calendar 2.0//EN
METHOD:PUBLISH
X-PUBLISHED-TTL:P3D
REFRESH-INTERVAL:P3D
CALSCALE:GREGORIAN
BEGIN:VEVENT
DTSTART:20150130T210000Z
DTEND:20150131T023000Z
X-MICROSOFT-CDO-ALLDAYEVENT:FALSE
SUMMARY:Progressive Putt Putt
DESCRIPTION:You can tell your boss you will be making cold calls all day at the\n\nPSCC Putt Putt Classic\nThis tournament will be your opportunity to network all afternoon while putting through nine of our local businesses. Wear your best argyle and golf attire and join us for nine holes around Puyallup.The classic will encompass Puyallup\, Sumner and South Hill regions in a three part series. The first leg will commence in Puyallup. Three will be prizes for best and worst scores\, costume contest and a reception to close off the night
X-ALT-DESC;FMTTYPE=text/html:<div style="text-align: center\;">You can tell your boss you will be making cold calls all day at the<br />\n<strong><span style="color:#0000FF\;"><span style="font-size:14px\;">PSCC&nbsp\;Putt Putt Classic</span></span></strong></div>\nThis tournament will be your opportunity to network all afternoon while putting through nine of our local businesses. Wear your best argyle and golf attire and join us for nine holes around Puyallup.The classic will encompass Puyallup\, Sumner and South Hill regions in a three part series. The first leg will commence in Puyallup. Three will be prizes for best and worst scores\, costume contest and a reception to close off the night
LOCATION:Some of the businesses sponsoring holes are The Washington State Fair - putt right through Kent's office The Fairfield Inn - You might just like the room enough to want to stay Design Dog - You know this hole will be well designed Columbia Bank - We are hoping to putt into the vault Stephens Law Firm - Just what will Mr. Stephens do? Fix Auto - an excellent chance for a behind the scenes Good Samaritan - is there a cure for you golf swing? Here is an open spot for a hole Puyallup Nissan - Final Hole and Reception\, will it be a tail gate party?
UID:e.101.6535
SEQUENCE:3
DTSTAMP:20260424T202058Z
URL:https://business.puyallupsumnerchamber.com/events/details/progressive-putt-putt-01-30-2015-6535
END:VEVENT

END:VCALENDAR
