BEGIN:VCALENDAR
VERSION:2.0
PRODID:-//ChamberMaster//Event Calendar 2.0//EN
METHOD:PUBLISH
X-PUBLISHED-TTL:P3D
REFRESH-INTERVAL:P3D
CALSCALE:GREGORIAN
BEGIN:VEVENT
DTSTART:20180803T013000Z
DTEND:20180803T030000Z
X-MICROSOFT-CDO-ALLDAYEVENT:FALSE
SUMMARY:Puyallup Concerts in Pioneer Park
DESCRIPTION:Come join us Every Thursday this Summer for evenings of Music and community on the lawn at Pioneer Park.\n\n Each week a different Performers & Style.
X-ALT-DESC;FMTTYPE=text/html:Come join us Every Thursday this Summer for evenings of Music and community on the lawn at Pioneer Park.<br />\n&nbsp\;Each week a different Performers &amp\; Style.&nbsp\;&nbsp\;<br />\n&nbsp\;
LOCATION:Pioneer Park 325 South Meridian Puyallup\, WA
UID:e.101.9139
SEQUENCE:3
DTSTAMP:20260421T134108Z
URL:https://business.puyallupsumnerchamber.com/events/details/puyallup-concerts-in-pioneer-park-9139
END:VEVENT

END:VCALENDAR
