BEGIN:VCALENDAR
VERSION:2.0
PRODID:-//ChamberMaster//Event Calendar 2.0//EN
METHOD:PUBLISH
X-PUBLISHED-TTL:P3D
REFRESH-INTERVAL:P3D
CALSCALE:GREGORIAN
BEGIN:VEVENT
DTSTART:20180421T160000Z
DTEND:20180421T210000Z
X-MICROSOFT-CDO-ALLDAYEVENT:FALSE
SUMMARY:Puyallup Farmers' Market Opening Day
DESCRIPTION:Featuring your favorite farmers bringing their best hanging baskets\, veggie and fruit starts\, flowers and more   all grown right here in Washington. Add in a variety of artisan crafters\, specialty food vendors\, unique and respected non-profits plus top-notch entertainment and you'll see why the Puyallup Farmers' Market is a premier regional experience you don't want to miss!
X-ALT-DESC;FMTTYPE=text/html:<span style="color:rgb(85\, 85\, 85)\; font-family:arial\,sans-serif">Featuring your favorite farmers bringing their best hanging baskets\, veggie and fruit starts\, flowers and more &ndash\; all grown right here in Washington. Add in a variety of artisan crafters\, specialty food vendors\, unique and respected non-profits plus&nbsp\;top-notch entertainment and you&rsquo\;ll see why the Puyallup Farmers&rsquo\; Market is a premier regional experience you don&rsquo\;t want to miss!</span>
LOCATION:Located in Pioneer Park and Pioneer Park Pavilion in historic downtown Puyallup.
UID:e.101.8924
SEQUENCE:3
DTSTAMP:20260421T071501Z
URL:https://business.puyallupsumnerchamber.com/events/details/puyallup-farmers-market-opening-day-04-21-2018-8924
END:VEVENT

END:VCALENDAR
