BEGIN:VCALENDAR
VERSION:2.0
PRODID:-//ChamberMaster//Event Calendar 2.0//EN
METHOD:PUBLISH
X-PUBLISHED-TTL:P3D
REFRESH-INTERVAL:P3D
CALSCALE:GREGORIAN
BEGIN:VEVENT
DTSTART:20140510T210000Z
DTEND:20140510T230000Z
X-MICROSOFT-CDO-ALLDAYEVENT:FALSE
SUMMARY:Puyallup Hatchery Educational Center Grand Opening
DESCRIPTION:The public is invited to the grand opening of the new Educational Center at the Puyallup Hatchery!\n\nPlease join us to celebrate this event!
X-ALT-DESC;FMTTYPE=text/html:<span style="font-size: 14px"><span style="font-family: comic sans ms">The public is invited to the grand opening of the new Educational Center at the Puyallup Hatchery!<br />\nPlease join us to celebrate this event!</span></span>
LOCATION:Puyallup Hatchery 1414 14th Street SW\, Puyallup\, WA 98371
UID:e.101.6491
SEQUENCE:3
DTSTAMP:20260425T110234Z
URL:https://business.puyallupsumnerchamber.com/events/details/puyallup-hatchery-educational-center-grand-opening-05-10-2014-6491
END:VEVENT

END:VCALENDAR
