BEGIN:VCALENDAR
VERSION:2.0
PRODID:-//ChamberMaster//Event Calendar 2.0//EN
METHOD:PUBLISH
X-PUBLISHED-TTL:P3D
REFRESH-INTERVAL:P3D
CALSCALE:GREGORIAN
BEGIN:VEVENT
DTSTART:20180916T190000Z
DTEND:20180916T220000Z
X-MICROSOFT-CDO-ALLDAYEVENT:FALSE
SUMMARY:Puyallup Pups & Purrs Adoption Event at Sunrise Village
DESCRIPTION:Sunday\, September 16th | 12 - 3pm\n\nPuyallup Pups & Purrs Pet Adoption Event \n\nHosted by Puyallup Animal Rescue\n\nIn Partnership with PetSmart Charities\n\n \n\nSunrise Village PetSmart | 10309 156th St E.\, Puyallup\, 98374\n\n?\n\n*Over 100 pets will be available for adoption (list of groups below): Puppies\, kittens\, dogs & cats\n\n*Trainers\, shelter staff and volunteers on site to answer questions\n\n*Enjoy free chips & queso from Qdoba Mexican Grill\n\n\n\n \n\nPlease fill in the information HERE to register\n\nfor the pre-adoption workshop at 10:45am
X-ALT-DESC;FMTTYPE=text/html:<h2 style="text-align:center">Sunday\, September 16th | 12 - 3pm</h2>\n\n<h2 style="text-align:center"><span style="color:rgb(201\, 124\, 36)">Puyallup Pups &amp\; Purrs Pet Adoption Event&nbsp\;</span></h2>\n\n<h2 style="text-align:center"><em>Hosted by Puyallup Animal Rescue</em></h2>\n\n<h2 style="text-align:center"><em>In Partnership with PetSmart Charities</em></h2>\n\n<h2 style="text-align:center">&nbsp\;</h2>\n\n<h2 style="text-align:center">Sunrise Village PetSmart |&nbsp\;10309 156th St E.\, Puyallup\, 98374</h2>\n\n<h2 style="text-align:center">?</h2>\n\n<p style="text-align:center">*Over 100 pets will be available for adoption (list of groups below): Puppies\, kittens\, dogs &amp\; cats</p>\n\n<p style="text-align:center">*Trainers\, shelter staff and volunteers on site to answer questions</p>\n\n<p style="text-align:center">*Enjoy free chips &amp\; queso from Qdoba Mexican Grill<br />\n<br />\n&nbsp\;</p>\n\n<p style="text-align:center"><strong>Please fill in the information <a href="http://www.mysunrisevillage.com/pet-adoption"><u><span style="color:#800080">HERE</span></u> </a>to register</strong></p>\n\n<p style="text-align:center"><strong>for the pre-adoption workshop at 10:45am</strong></p>\n
LOCATION:Sunrise Village PetSmart - 10309 156th Street E. Puyallup\, WA 98374
UID:e.101.9376
SEQUENCE:3
DTSTAMP:20260423T085658Z
URL:https://business.puyallupsumnerchamber.com/events/details/puyallup-pups-purrs-adoption-event-at-sunrise-village-9376
END:VEVENT

END:VCALENDAR
