BEGIN:VCALENDAR
VERSION:2.0
PRODID:-//ChamberMaster//Event Calendar 2.0//EN
METHOD:PUBLISH
X-PUBLISHED-TTL:P3D
REFRESH-INTERVAL:P3D
CALSCALE:GREGORIAN
BEGIN:VEVENT
DTSTART:20160515T190000Z
DTEND:20160515T220000Z
X-MICROSOFT-CDO-ALLDAYEVENT:FALSE
SUMMARY:Puyallup Pups & Purrs Pet Adoption Event
DESCRIPTION:Puyallup Pups & Purrs Pet Adoption Event Hosted by Puyallup Animal Rescue In Partnership with PetSmart Charities Sunrise Village PetSmart | 10309 156th St E.\, Puyallup\, 98374 *Over 150 pets will be available for adoption (list of groups below): Puppies\, kittens\, dogs & cats *Trainers\, shelter staff and volunteers on site to answer questions *Enjoy free chips & queso from Qdoba Mexican Grill
X-ALT-DESC;FMTTYPE=text/html:Puyallup Pups &amp\; Purrs Pet Adoption Event Hosted by Puyallup Animal Rescue In Partnership with PetSmart Charities Sunrise Village PetSmart | 10309 156th St E.\, Puyallup\, 98374 *Over 150 pets will be available for adoption (list of groups below): Puppies\, kittens\, dogs &amp\; cats *Trainers\, shelter staff and volunteers on site to answer questions *Enjoy free chips &amp\; queso from Qdoba Mexican Grill
LOCATION:Meridian Sunrise Village Petsmart - 10309 156th St. E.\, Puyallup\, WA 98374
UID:e.101.8018
SEQUENCE:3
DTSTAMP:20260423T202333Z
URL:https://business.puyallupsumnerchamber.com/events/details/puyallup-pups-purrs-pet-adoption-event-05-15-2016-8018
END:VEVENT

END:VCALENDAR
