BEGIN:VCALENDAR
VERSION:2.0
PRODID:-//ChamberMaster//Event Calendar 2.0//EN
METHOD:PUBLISH
X-PUBLISHED-TTL:P3D
REFRESH-INTERVAL:P3D
CALSCALE:GREGORIAN
BEGIN:VEVENT
DTSTART:20160319T010000Z
DTEND:20160319T050000Z
X-MICROSOFT-CDO-ALLDAYEVENT:FALSE
SUMMARY:Puyallup Rotary 54th Annual Crab Feed!
DESCRIPTION:Please join us for our annual all you can eat Crab Feed!!!\n\nThis is a family friendly event!!!!\n\n\n\nProceeds benefit our local community including the YMCA Youth Investment Center\, Youth Advocacy Project and others.\n\n\n\nEnjoy Beer\, Wine\, Raffle\, Silent Auction\, Dancing and a Kid Zone!\n\n\n\nYou will enjoy crab\, oyster stew\, salad\, mac and cheese and much more!
X-ALT-DESC;FMTTYPE=text/html:Please join us for our annual all you can eat Crab Feed!!!<br />\nThis is a family friendly event!!!!<br />\n<br />\nProceeds benefit our local community including the YMCA Youth Investment Center\, Youth Advocacy Project and others.<br />\n<br />\nEnjoy Beer\, Wine\, Raffle\, Silent Auction\, Dancing and a Kid Zone!<br />\n<br />\nYou will enjoy crab\, oyster stew\, salad\, mac and cheese and much more!
LOCATION:Washington State Fair Grounds
UID:e.101.8015
SEQUENCE:3
DTSTAMP:20260423T231519Z
URL:https://business.puyallupsumnerchamber.com/events/details/puyallup-rotary-54th-annual-crab-feed-03-18-2016-8015
END:VEVENT

END:VCALENDAR
