BEGIN:VCALENDAR
VERSION:2.0
PRODID:-//ChamberMaster//Event Calendar 2.0//EN
METHOD:PUBLISH
X-PUBLISHED-TTL:P3D
REFRESH-INTERVAL:P3D
CALSCALE:GREGORIAN
BEGIN:VEVENT
DTSTART:20150503T010000Z
DTEND:20150503T050000Z
X-MICROSOFT-CDO-ALLDAYEVENT:FALSE
SUMMARY:Puyallup Saves the Puget Sound - Clean Water For Everyone
DESCRIPTION:Aveda South Hill Mall and Anthem Coffee & Team present:\n\n"Totally 80's - Clean Water For Everyone / Puyallup Saves the Puget Sound". \n\n\n\nPlease join us on Saturday\, May 2nd at Anthem Coffee & Tea from 6:00 pm to 10:00 pm for our\n\n2015 Earth Month event to support the Puget Soundkeeper Alliance. 100% of the raffle and auction proceeds will go to the Puget Soundkeeper Alliance to support their efforts to protect our Puget Sound Waters\, Marine Life\, Fishing industry\, our streams\, lakes and rivers.\n\n\n\nThere is over $3000 in auction and raffle prizes to support this amazing non-profit. Tickets are available at Aveda South Hill Mall or by calling us at 253-848-5667. Tickets will be available at Anthem Coffee the night of the event as well\, and will include a complimentary cold or hot beverage and appetizers\, compliments Bryan Reynolds and his Awesome Team at Anthem Coffee.\n\n\n\nSilent Auction and raffle prizes:\n\n\n\nCustom made Seahawks Gifts by Mancave Metalworks\n\nKenny Chesney/Jason Aldeen Tix\n\nJake Owen Tix\n\nSigned Ken Griffey Jr. Shirt\n\n20 Person Wine Party - Total Wine - Puyallup\, WA\n\nGolf Golf Golf\n\nLemay Museum Tix\n\nRestaurant Certificates\n\nClothing by Christine Alexander\n\nSounders Signed Ball\n\nTacoma Rainiers Packages\n\nAveda Gift Certificates\n\n20 Person Private Wine Tasting at Total Wine and More\n\nWild Waves Passes\n\nNW Trek Passes\n\nSalishan Lodging Weekend Lincoln City\, OR\n\n$500 Teeth Whitening from Dr. Jeff at Puyallup Smiles\n\nWatch from A & G Jewelers\, South Hill Mall\n\nOne Year Family Pass to Competitive Edge\n\n\n\nAnd much\, much more!!!\n\n\n\n$10 per person / $20 per couple suggested ticket donation at the door and will get you a hot or cold beverage and complimentary appetizers. Guests who generously give ticket donation will be automatically entered for a special gift compliments of Aveda South Hill Mall and an extra special prize for the best 80's costumes of the night.\n\n\n\nPlease stop by Aveda South Hill Mall or call 253-848-5667 to secure your tickets for the night or just come to the event at Anthem Coffee and Tea on May 2\, 2015!\n\n\n\nThank you for your support!\n\n\n\nAveda South Hill Mall and Anthem Coffee and Tea
X-ALT-DESC;FMTTYPE=text/html:Aveda South Hill Mall and Anthem Coffee &amp\; Team present:<br />\n<strong><span style="color: rgb(0\, 0\, 255)\;">&quot\;Totally 80&#39\;s - Clean Water For Everyone / Puyallup Saves the Puget Sound&quot\;. </span></strong><br />\n<br />\nPlease join us on Saturday\, May 2nd at Anthem&nbsp\;Coffee &amp\; Tea&nbsp\;from 6:00 pm to 10:00 pm for our<br />\n2015 Earth Month event to support the Puget Soundkeeper Alliance. 100% of the raffle and auction proceeds will go to the Puget Soundkeeper Alliance to support their efforts to protect our Puget Sound Waters\, Marine Life\, Fishing industry\, our streams\, lakes and rivers.<br />\n<br />\nThere is over $3000 in auction and raffle prizes to support this amazing non-profit. Tickets are available at Aveda South Hill Mall or by calling us at 253-848-5667. Tickets will be available at Anthem Coffee the night of the event as well\, and will include a complimentary cold or hot&nbsp\;beverage and appetizers\, compliments Bryan Reynolds and his Awesome Team at Anthem Coffee.<br />\n<br />\n<span style="font-size: 14px\;"><span style="font-family: arial\;"><strong><span style="background-color: rgb(255\, 255\, 0)\;">Silent Auction and raffle prizes:</span></strong></span></span><br />\n<br />\n<strong>Custom made Seahawks Gifts by Mancave Metalworks<br />\nKenny Chesney/Jason Aldeen Tix<br />\nJake Owen Tix<br />\nSigned Ken Griffey Jr. Shirt<br />\n20 Person Wine Party - Total Wine - Puyallup\, WA<br />\nGolf Golf Golf<br />\nLemay Museum Tix<br />\nRestaurant Certificates<br />\nClothing by Christine Alexander<br />\nSounders Signed Ball<br />\nTacoma Rainiers Packages<br />\nAveda Gift Certificates<br />\n20 Person Private Wine Tasting at Total Wine and More<br />\nWild Waves Passes<br />\nNW Trek Passes<br />\nSalishan Lodging Weekend Lincoln City\, OR<br />\n$500 Teeth Whitening from Dr. Jeff at Puyallup Smiles<br />\nWatch from A &amp\; G Jewelers\, South Hill Mall<br />\nOne Year Family Pass to Competitive Edge<br />\n<br />\nAnd much\, much more!!!</strong><br />\n<br />\n<strong><span style="background-color: rgb(255\, 255\, 0)\;">$10 per person / $20 per couple suggested ticket donation at the door and&nbsp\;will get you a hot or cold beverage and complimentary appetizers. Guests who generously give ticket donation will be automatically entered for a special gift compliments of Aveda South Hill Mall and an extra special prize for the best 80&#39\;s costumes of the night.</span></strong><br />\n<br />\nPlease stop by Aveda South Hill Mall or call 253-848-5667 to secure your tickets for the night or just come to the event at Anthem Coffee and Tea on May 2\, 2015!<br />\n<br />\nThank you for your support!<br />\n<br />\nAveda South Hill Mall and Anthem Coffee and Tea<br />\n&nbsp\;
LOCATION:Anthem Coffee & Tea
UID:e.101.6571
SEQUENCE:3
DTSTAMP:20260424T140542Z
URL:https://business.puyallupsumnerchamber.com/events/details/puyallup-saves-the-puget-sound-clean-water-for-everyone-05-02-2015-6571
END:VEVENT

END:VCALENDAR
