BEGIN:VCALENDAR
VERSION:2.0
PRODID:-//ChamberMaster//Event Calendar 2.0//EN
METHOD:PUBLISH
X-PUBLISHED-TTL:P3D
REFRESH-INTERVAL:P3D
CALSCALE:GREGORIAN
BEGIN:VEVENT
DTSTART:20180602T150000Z
DTEND:20180602T180000Z
X-MICROSOFT-CDO-ALLDAYEVENT:FALSE
SUMMARY:Rainier to Ruston Rail-Trail Relay & Ultra & National Trails Day
DESCRIPTION:Always the first Saturday in June
X-ALT-DESC;FMTTYPE=text/html:Always the first Saturday in June
LOCATION:
UID:e.101.9087
SEQUENCE:3
DTSTAMP:20260423T085422Z
URL:https://business.puyallupsumnerchamber.com/events/details/rainier-to-ruston-rail-trail-relay-amp-ultra-amp-national-trails-day-06-02-2018-9087
END:VEVENT

END:VCALENDAR
