BEGIN:VCALENDAR
VERSION:2.0
PRODID:-//ChamberMaster//Event Calendar 2.0//EN
METHOD:PUBLISH
X-PUBLISHED-TTL:P3D
REFRESH-INTERVAL:P3D
CALSCALE:GREGORIAN
BEGIN:VEVENT
DTSTART:20180803T003000Z
DTEND:20180803T023000Z
X-MICROSOFT-CDO-ALLDAYEVENT:FALSE
SUMMARY:Red Canoe - Networking Night Out
DESCRIPTION:Red Canoe Credit Union is partnering with Communities in Schools Puyallup to roll out\n\nFILL THE CANOE school supply drive.\n\nJoin us for food\, beverages and networking at our annual event.\n\nEnter to win a $100 cash door prize! (must be present to win)\n\nDouble your chance to win by sending an RSVP to kthompson@redcanoecu.com
X-ALT-DESC;FMTTYPE=text/html:Red Canoe Credit Union is partnering with Communities in Schools Puyallup to roll out<br />\nFILL THE CANOE school supply drive.<br />\nJoin us for food\, beverages and networking at our annual event.<br />\nEnter to win a $100 cash door prize! (must be present to win)<br />\nDouble your chance to win by sending an RSVP to <a href="mailto:kthompson@redcanoecu.com?subject=RSVP%20-%20Networking%20Night%20Out">kthompson@redcanoecu.com</a>&nbsp\;
LOCATION:601 39th AVE SW\, Puyallup
UID:e.101.9142
SEQUENCE:3
DTSTAMP:20260421T114111Z
URL:https://business.puyallupsumnerchamber.com/events/details/red-canoe-networking-night-out-9142
END:VEVENT

END:VCALENDAR
