BEGIN:VCALENDAR
VERSION:2.0
PRODID:-//ChamberMaster//Event Calendar 2.0//EN
METHOD:PUBLISH
X-PUBLISHED-TTL:P3D
REFRESH-INTERVAL:P3D
CALSCALE:GREGORIAN
BEGIN:VEVENT
DTSTART;VALUE=DATE:20160625
DTEND;VALUE=DATE:20160627
TRANSP:TRANSPARENT
X-MICROSOFT-CDO-ALLDAYEVENT:TRUE
SUMMARY:RELAY FOR LIFE OF PUYALLUP
DESCRIPTION:Organized\, overnight community fundraising walk\n	Teams of people camp out around a track\n	Members of each team take turns walking around the track\n	Food\, games and activities provide entertainment and build camaraderie\n	Family-friendly environment for the entire community
X-ALT-DESC;FMTTYPE=text/html:<ul>\n	<li>Organized\, overnight community fundraising walk</li>\n	<li>Teams of people camp out around a track</li>\n	<li>Members of each team take turns walking around the track</li>\n	<li>Food\, games and activities provide entertainment and build camaraderie</li>\n	<li>Family-friendly environment for the entire community</li>\n</ul>\n
LOCATION:Sparks Stadium
UID:e.101.8251
SEQUENCE:3
DTSTAMP:20260423T184340Z
URL:https://business.puyallupsumnerchamber.com/events/details/relay-for-life-of-puyallup-06-25-2016-8251
END:VEVENT

END:VCALENDAR
