BEGIN:VCALENDAR
VERSION:2.0
PRODID:-//ChamberMaster//Event Calendar 2.0//EN
METHOD:PUBLISH
X-PUBLISHED-TTL:P3D
REFRESH-INTERVAL:P3D
CALSCALE:GREGORIAN
BEGIN:VEVENT
DTSTART:20160730T170000Z
DTEND:20160730T180000Z
X-MICROSOFT-CDO-ALLDAYEVENT:FALSE
SUMMARY:Retirement Seminar
DESCRIPTION:Our Retirement Seminar is to help you find peace and security in planning!
X-ALT-DESC;FMTTYPE=text/html:Our Retirement Seminar is to help you find peace and security in planning!
LOCATION:1201 Main Street Suite B Sumner\, WA 98390
UID:e.101.8418
SEQUENCE:3
DTSTAMP:20260423T170410Z
URL:https://business.puyallupsumnerchamber.com/events/details/retirement-seminar-07-30-2016-8418
END:VEVENT

END:VCALENDAR
