BEGIN:VCALENDAR
VERSION:2.0
PRODID:-//ChamberMaster//Event Calendar 2.0//EN
METHOD:PUBLISH
X-PUBLISHED-TTL:P3D
REFRESH-INTERVAL:P3D
CALSCALE:GREGORIAN
BEGIN:VEVENT
DTSTART:20140508T180000Z
DTEND:20140508T190000Z
X-MICROSOFT-CDO-ALLDAYEVENT:FALSE
SUMMARY:Ribbon Cutting
DESCRIPTION:Join us to celebrate the Ribbon Cutting and Grand Opening of Blue\, a Goodwill Boutique in downtaown Sumner!
X-ALT-DESC;FMTTYPE=text/html:Join us to celebrate the Ribbon Cutting and Grand Opening of Blue\, a Goodwill Boutique in downtaown Sumner!
LOCATION:926 Main Street\, Sumner\, WA 98390
UID:e.101.6490
SEQUENCE:3
DTSTAMP:20260425T105327Z
URL:https://business.puyallupsumnerchamber.com/events/details/ribbon-cutting-05-08-2014-6490
END:VEVENT

END:VCALENDAR
