BEGIN:VCALENDAR
VERSION:2.0
PRODID:-//ChamberMaster//Event Calendar 2.0//EN
METHOD:PUBLISH
X-PUBLISHED-TTL:P3D
REFRESH-INTERVAL:P3D
CALSCALE:GREGORIAN
BEGIN:VEVENT
DTSTART:20151003T003000Z
DTEND:20151003T020000Z
X-MICROSOFT-CDO-ALLDAYEVENT:FALSE
SUMMARY:Ribbon Cutting
DESCRIPTION:Please Join us in Celebrating The Grand Re-Opening of\n\nPuyallup Custom Frame Art
X-ALT-DESC;FMTTYPE=text/html:<div>Please Join us in Celebrating The Grand Re-Opening of</div>\n\n<div><a href="http://www.PCFAA.com"><span style="font-size:18px\;"><span style="color:#0000CD\;"><strong>Puyallup Custom Frame Art&#8203\;</strong></span></span></a></div>\n\n<div>&nbsp\;</div>\n\n<div>&nbsp\;</div>\n
LOCATION:116B South Meridain Puyallup\, WA 98371
UID:e.101.6779
SEQUENCE:3
DTSTAMP:20260424T062734Z
URL:https://business.puyallupsumnerchamber.com/events/details/ribbon-cutting-10-02-2015-6779
END:VEVENT

END:VCALENDAR
