BEGIN:VCALENDAR
VERSION:2.0
PRODID:-//ChamberMaster//Event Calendar 2.0//EN
METHOD:PUBLISH
X-PUBLISHED-TTL:P3D
REFRESH-INTERVAL:P3D
CALSCALE:GREGORIAN
BEGIN:VEVENT
DTSTART:20141030T000000Z
DTEND:20141030T020000Z
X-MICROSOFT-CDO-ALLDAYEVENT:FALSE
SUMMARY:Ribbon Cutting at Right At Home
DESCRIPTION:Join us in Right At Home a new\n\nmember to our Business Community and \n\nour Chamber of Commerce
X-ALT-DESC;FMTTYPE=text/html:<div style="text-align: center\;"><span style="font-family:tahoma\;"><span style="color:#ff6600\;"><strong><span style="font-size:14px\;">Join us in <a href="www.rightathome.net/">Right At Home</a> a new<br />\nmember to our Business Community and&nbsp\;<br />\nour Chamber of Commerce</span></strong></span></span><br />\n&nbsp\;</div>\n
LOCATION:In Willow Gardens 4502 6th Street Southeast Puyallup
UID:e.101.6517
SEQUENCE:3
DTSTAMP:20260425T013041Z
URL:https://business.puyallupsumnerchamber.com/events/details/ribbon-cutting-at-right-at-home-10-29-2014-6517
END:VEVENT

END:VCALENDAR
