BEGIN:VCALENDAR
VERSION:2.0
PRODID:-//ChamberMaster//Event Calendar 2.0//EN
METHOD:PUBLISH
X-PUBLISHED-TTL:P3D
REFRESH-INTERVAL:P3D
CALSCALE:GREGORIAN
BEGIN:VEVENT
DTSTART:20140425T000000Z
DTEND:20140425T000000Z
X-MICROSOFT-CDO-ALLDAYEVENT:FALSE
SUMMARY:Ribbon Cutting at Subzero Ice Cream & Yogurt
DESCRIPTION:Join us to celebrate the Ribbon Cutting of Subzero Ice Cream & Yogurt!
X-ALT-DESC;FMTTYPE=text/html:Join us to celebrate the Ribbon Cutting of Subzero Ice Cream &amp\; Yogurt!
LOCATION:4102 S. Meridian Suite E-1\, Puyallup 98373
UID:e.101.6480
SEQUENCE:3
DTSTAMP:20260425T105800Z
URL:https://business.puyallupsumnerchamber.com/events/details/ribbon-cutting-at-subzero-ice-cream-yogurt-04-24-2014-6480
END:VEVENT

END:VCALENDAR
