BEGIN:VCALENDAR
VERSION:2.0
PRODID:-//ChamberMaster//Event Calendar 2.0//EN
METHOD:PUBLISH
X-PUBLISHED-TTL:P3D
REFRESH-INTERVAL:P3D
CALSCALE:GREGORIAN
BEGIN:VEVENT
DTSTART:20140430T230000Z
DTEND:20140501T010000Z
X-MICROSOFT-CDO-ALLDAYEVENT:FALSE
SUMMARY:Ribbon Cutting at Taco Del Mar
DESCRIPTION:Join us as we celebrate the Grand Reopening and Ribbon Cutting of Taco Del Mar South Hill!
X-ALT-DESC;FMTTYPE=text/html:Join us as we celebrate the Grand Reopening and Ribbon Cutting of Taco Del Mar South Hill!
LOCATION:3827 S. Meridian\, Puyallup\, 98373
UID:e.101.6481
SEQUENCE:3
DTSTAMP:20260425T110105Z
URL:https://business.puyallupsumnerchamber.com/events/details/ribbon-cutting-at-taco-del-mar-04-30-2014-6481
END:VEVENT

END:VCALENDAR
