BEGIN:VCALENDAR
VERSION:2.0
PRODID:-//ChamberMaster//Event Calendar 2.0//EN
METHOD:PUBLISH
X-PUBLISHED-TTL:P3D
REFRESH-INTERVAL:P3D
CALSCALE:GREGORIAN
BEGIN:VEVENT
DTSTART:20181114T000000Z
DTEND:20181114T020000Z
X-MICROSOFT-CDO-ALLDAYEVENT:FALSE
SUMMARY:RIBBON CUTTING - Diagnostic Imaging NorthWest
DESCRIPTION:Ribbon Cutting at Diagnostic Imaging Northwest  to introduce the Chamber community to our NEW 3D Mammography Imaging technology/equipment and program.
X-ALT-DESC;FMTTYPE=text/html:Ribbon Cutting at Diagnostic Imaging Northwest&nbsp\;&nbsp\;to introduce the Chamber community to our NEW 3D Mammography Imaging technology/equipment and program.&nbsp\;
LOCATION:222 15th Ave SE Puyallup\, WA
UID:e.101.9605
SEQUENCE:3
DTSTAMP:20260421T070606Z
URL:https://business.puyallupsumnerchamber.com/events/details/ribbon-cutting-diagnostic-imaging-northwest-9605
END:VEVENT

END:VCALENDAR
