BEGIN:VCALENDAR
VERSION:2.0
PRODID:-//ChamberMaster//Event Calendar 2.0//EN
METHOD:PUBLISH
X-PUBLISHED-TTL:P3D
REFRESH-INTERVAL:P3D
CALSCALE:GREGORIAN
BEGIN:VEVENT
DTSTART:20180511T000000Z
DTEND:20180511T020000Z
X-MICROSOFT-CDO-ALLDAYEVENT:FALSE
SUMMARY:Ribbon Cutting - Logic Staffing Pro
DESCRIPTION:Join Logic Staffing Pro for a real party. Great food\, adult beverages\, door prizes and networking! Bring your business cards and come to mingle and get to know your chamber friends.
X-ALT-DESC;FMTTYPE=text/html:Join Logic Staffing Pro for a real party. Great food\, adult beverages\, door prizes and networking! Bring your business cards and come to mingle and get to know your chamber friends.&nbsp\;
LOCATION:5814 Graham Ave #200 Sumner\, WA 98390
UID:e.101.8946
SEQUENCE:3
DTSTAMP:20260421T090800Z
URL:https://business.puyallupsumnerchamber.com/events/details/ribbon-cutting-logic-staffing-pro-05-10-2018-8946
END:VEVENT

END:VCALENDAR
