BEGIN:VCALENDAR
VERSION:2.0
PRODID:-//ChamberMaster//Event Calendar 2.0//EN
METHOD:PUBLISH
X-PUBLISHED-TTL:P3D
REFRESH-INTERVAL:P3D
CALSCALE:GREGORIAN
BEGIN:VEVENT
DTSTART:20180619T170000Z
DTEND:20180619T180000Z
X-MICROSOFT-CDO-ALLDAYEVENT:FALSE
SUMMARY:Ribbon Cutting - Meraki
DESCRIPTION:Meraki Art House is now OPEN! The former Arts and Corks has gone through a change of style. They have added a coffee house feature to their studio\, now offering Martin Henry coffee and tasty little appetizers including crepes\, and expanded hours. Join us as we help the owner Regina in her re-grand opening.
X-ALT-DESC;FMTTYPE=text/html:Meraki Art House is now OPEN! The former Arts and Corks has gone through a change of style. They have added a coffee house feature to their studio\, now offering Martin Henry coffee and tasty little appetizers including crepes\, and expanded hours. Join us as we help the owner Regina in her re-grand opening.&nbsp\;
LOCATION:105 South Meridian Puyallup\, WA
UID:e.101.9108
SEQUENCE:3
DTSTAMP:20260423T084550Z
URL:https://business.puyallupsumnerchamber.com/events/details/ribbon-cutting-meraki-9108
END:VEVENT

END:VCALENDAR
