BEGIN:VCALENDAR
VERSION:2.0
PRODID:-//ChamberMaster//Event Calendar 2.0//EN
METHOD:PUBLISH
X-PUBLISHED-TTL:P3D
REFRESH-INTERVAL:P3D
CALSCALE:GREGORIAN
BEGIN:VEVENT
DTSTART:20180823T003000Z
DTEND:20180823T033000Z
X-MICROSOFT-CDO-ALLDAYEVENT:FALSE
SUMMARY:Rodeo Night Cowboy Crawl
DESCRIPTION:Get Ready To Rodeo!\n\nJoin the stampede of cowboys for a party and cowboy crawl in downtown Puyallup. Free kick-off party and ticketed cowboy pub-crawl to over 10 bars and restaurants in downtown with drinks and appetizer specials! Mingle with Washington State Fair Rodeo Wranglers\, win some great prizes and just have fun! \n\nJoin the fun for Music\, Roping\, Cowboy Contests\, Prizes\, Beer\, Wine\, Spirits\, and Food Specials! \n\nTickets include two drink tickets and/or appetizers from participating bars and restaurants. \n\nTicket pick up and registration will be located at 109 N Meridian\, the evening of the Cowboy Crawl. This event is brought to you courtesy of the Puyallup Main Street Association\, Puyallup-Sumner Chamber of Commerce and the Washington State Fair.\n\nParticipating Restaurants & Bars\n\n\n	Anthem\n	Bumpy's\n	CaskCades\n	Charlie's Restaurant & Lounge\n	Crockett's Public House\n	Downtown Brew\n	Fiesta Taqueria & Tequila Bar\n	Flanagan's Craft Pub\n	Mazatl n Restaurant\n	Meraki Art House\n	Scotty's Grub and Pub 13\n	The Station U-Brew\n	TK Irish Pub & Eatery\n	Trackside Pizza\n	Wicked Pie Pizza
X-ALT-DESC;FMTTYPE=text/html:<p><strong>Get Ready To Rodeo!</strong></p>\n\n<p>Join the stampede of cowboys for a party and cowboy crawl&nbsp\;in downtown Puyallup.&nbsp\;Free kick-off party and ticketed cowboy pub-crawl to over 10 bars and restaurants in downtown with drinks and appetizer specials!&nbsp\;Mingle with Washington State Fair Rodeo Wranglers\, win some great prizes and just have fun!&nbsp\;</p>\n\n<p>Join the fun for Music\, Roping\, Cowboy Contests\, Prizes\,&nbsp\;Beer\, Wine\, Spirits\, and Food Specials!&nbsp\;</p>\n\n<p>Tickets include&nbsp\;two drink tickets and/or appetizers&nbsp\;from participating bars and restaurants.&nbsp\;</p>\n\n<p>Ticket pick up and registration will be located at 109 N Meridian\, the evening of the Cowboy Crawl. This event is brought to you courtesy of the Puyallup Main Street Association\, Puyallup-Sumner Chamber of Commerce and the Washington State Fair.</p>\n\n<p><strong>Participating Restaurants &amp\; Bars</strong></p>\n\n<ul>\n	<li>Anthem</li>\n	<li>Bumpy&rsquo\;s</li>\n	<li>CaskCades</li>\n	<li>Charlie&rsquo\;s Restaurant &amp\; Lounge</li>\n	<li>Crockett&rsquo\;s Public House</li>\n	<li>Downtown Brew</li>\n	<li>Fiesta Taqueria &amp\; Tequila Bar</li>\n	<li>Flanagan&#39\;s Craft Pub</li>\n	<li>Mazatl&aacute\;n Restaurant</li>\n	<li>Meraki Art House</li>\n	<li>Scotty&#39\;s Grub and Pub 13</li>\n	<li>The Station U-Brew</li>\n	<li>TK Irish Pub &amp\; Eatery</li>\n	<li>Trackside Pizza</li>\n	<li>Wicked Pie Pizza&nbsp\;&nbsp\;</li>\n</ul>\n
LOCATION:109 N. Meridian Puyallup\, WA 98371
UID:e.101.9364
SEQUENCE:3
DTSTAMP:20260421T131520Z
URL:https://business.puyallupsumnerchamber.com/events/details/rodeo-night-cowboy-crawl-9364
END:VEVENT

END:VCALENDAR
