BEGIN:VCALENDAR
VERSION:2.0
PRODID:-//ChamberMaster//Event Calendar 2.0//EN
METHOD:PUBLISH
X-PUBLISHED-TTL:P3D
REFRESH-INTERVAL:P3D
CALSCALE:GREGORIAN
BEGIN:VEVENT
DTSTART:20161001T180000Z
DTEND:20161001T220000Z
X-MICROSOFT-CDO-ALLDAYEVENT:FALSE
SUMMARY:Salmon Homecoming at the Puyallup Hatchery
DESCRIPTION:Celebrate the return of salmon to the Puyallup River Watershed!\n\n	Guided tours to see salmon returning to Clark's Creek\n	Science and art activites for kids\n	Native plants\, birds & animal track walks by Wolf Camp\n	Scavenger hunt\n	Live music by Doug Deems\n	Food Booths
X-ALT-DESC;FMTTYPE=text/html:Celebrate the return of salmon to the Puyallup River Watershed!\n<ul>\n	<li>Guided tours to see salmon returning to Clark&#39\;s Creek</li>\n	<li>Science and art activites for kids</li>\n	<li>Native plants\, birds &amp\; animal track walks by Wolf Camp</li>\n	<li>Scavenger hunt</li>\n	<li>Live music by Doug Deems</li>\n	<li>Food Booths</li>\n</ul>\n
LOCATION:1416 14th ST SW Puyallup\, WA 98371
UID:e.101.8424
SEQUENCE:3
DTSTAMP:20260423T140203Z
URL:https://business.puyallupsumnerchamber.com/events/details/salmon-homecoming-at-the-puyallup-hatchery-10-01-2016-8424
END:VEVENT

END:VCALENDAR
