BEGIN:VCALENDAR
VERSION:2.0
PRODID:-//ChamberMaster//Event Calendar 2.0//EN
METHOD:PUBLISH
X-PUBLISHED-TTL:P3D
REFRESH-INTERVAL:P3D
CALSCALE:GREGORIAN
BEGIN:VEVENT
DTSTART:20171209T180000Z
DTEND:20171210T000000Z
X-MICROSOFT-CDO-ALLDAYEVENT:FALSE
SUMMARY:Santa at The Post in Tehaleh
DESCRIPTION:Come join us in kicking off the holiday season with a visit from Santa and get your pictures taken. Enjoy some live Christmas music and drop your Santa letters off in our Santa mailbox. The cafe will be open with their entire menu to purchase from and some fun seasonal drinks as well. We look forward to seeing you here!
X-ALT-DESC;FMTTYPE=text/html:Come join us in kicking off the holiday season with a visit from Santa and get your pictures taken. Enjoy some live Christmas music and drop your Santa letters off in our Santa mailbox. The cafe will be open with their entire menu to purchase from and some fun seasonal drinks as well. We look forward to seeing you here!
LOCATION:19001 Cascadia Blvd East\, Bonney Lake Wa 98391
UID:e.101.8772
SEQUENCE:3
DTSTAMP:20260421T020531Z
URL:https://business.puyallupsumnerchamber.com/events/details/santa-at-the-post-in-tehaleh-12-09-2017-8772
END:VEVENT

END:VCALENDAR
