BEGIN:VCALENDAR
VERSION:2.0
PRODID:-//ChamberMaster//Event Calendar 2.0//EN
METHOD:PUBLISH
X-PUBLISHED-TTL:P3D
REFRESH-INTERVAL:P3D
CALSCALE:GREGORIAN
BEGIN:VEVENT
DTSTART:20160722T230000Z
DTEND:20160723T060000Z
X-MICROSOFT-CDO-ALLDAYEVENT:FALSE
SUMMARY:SERVPRO Puyallup/Sumner Open House Party
DESCRIPTION:Come Enjoy The Fun!!!\n\n \n\nWe are having an Open House to celebrate our new location! Please come enjoy some great food\, drinks\, music and entertainment. We will have games\, door prizes and giveaways and tours of our new facility.\n\nWe welcome all to join us! \n\n \n\nPlease RSVP at Karissa@servpropuyallup.com
X-ALT-DESC;FMTTYPE=text/html:<div><strong>Come Enjoy The Fun!!!</strong></div>\n\n<div>&nbsp\;</div>\n\n<div><strong>We are having an Open House to celebrate our new location! Please come enjoy some great food\, drinks\, music and entertainment. We will have games\, door prizes and giveaways and tours of our new facility.<br />\nWe welcome all to join us! </strong></div>\n\n<div>&nbsp\;</div>\n\n<div><strong>Please RSVP at Karissa@servpropuyallup.com</strong></div>\n
LOCATION:14224 Pioneer Way E Puyallup WA 98372
UID:e.101.8255
SEQUENCE:3
DTSTAMP:20260423T170841Z
URL:https://business.puyallupsumnerchamber.com/events/details/servpro-puyallup-sumner-open-house-party-07-22-2016-8255
END:VEVENT

END:VCALENDAR
