BEGIN:VCALENDAR
VERSION:2.0
PRODID:-//ChamberMaster//Event Calendar 2.0//EN
METHOD:PUBLISH
X-PUBLISHED-TTL:P3D
REFRESH-INTERVAL:P3D
CALSCALE:GREGORIAN
BEGIN:VEVENT
DTSTART:20150325T180000Z
DTEND:20150325T200000Z
X-MICROSOFT-CDO-ALLDAYEVENT:FALSE
SUMMARY:Sharp Pro Series Demo Day
DESCRIPTION:Visit our Sharp Showroom. See\, touch and use our Pro-Series Equipment for Printing & A/V (70" Aquos\, Ipad style board). High production specialist on site to answer all inquires. FREE LUNCH~ Please RSVP so I know you are dropping in. Free offer with RSVP and attendance.
X-ALT-DESC;FMTTYPE=text/html:Visit our Sharp Showroom. See\, touch and use our Pro-Series Equipment for Printing &amp\; A/V (70&quot\; Aquos\, Ipad style board). High production specialist on site to answer all inquires. FREE LUNCH~ Please RSVP so I know you are dropping in. Free offer with RSVP and attendance.
LOCATION:Between Sportco & BBQ in Fife. 2002 48th Ave\, Fife 98424
UID:e.101.6564
SEQUENCE:3
DTSTAMP:20260424T165417Z
URL:https://business.puyallupsumnerchamber.com/events/details/sharp-pro-series-demo-day-03-25-2015-6564
END:VEVENT

END:VCALENDAR
