BEGIN:VCALENDAR
VERSION:2.0
PRODID:-//ChamberMaster//Event Calendar 2.0//EN
METHOD:PUBLISH
X-PUBLISHED-TTL:P3D
REFRESH-INTERVAL:P3D
CALSCALE:GREGORIAN
BEGIN:VEVENT
DTSTART:20180922T230000Z
DTEND:20180923T020000Z
X-MICROSOFT-CDO-ALLDAYEVENT:FALSE
SUMMARY:Sip & Stroll
DESCRIPTION:
X-ALT-DESC;FMTTYPE=text/html:
LOCATION:SUMNER\, WASHINGTON
UID:e.101.9091
SEQUENCE:3
DTSTAMP:20260421T101127Z
URL:https://business.puyallupsumnerchamber.com/events/details/sip-stroll-9091
END:VEVENT

END:VCALENDAR
